BEGIN:VCALENDAR
VERSION:2.0
PRODID:icalendar-ruby
CALSCALE:GREGORIAN
METHOD:PUBLISH
BEGIN:VEVENT
DTSTAMP:20260421T120157Z
UID:9-410830@hilltopchapelconcord.com
DTSTART:20261011T140000Z
DTEND:20261011T150000Z
CLASS:PUBLIC
CREATED:20260420T210106
DESCRIPTION:Join us before the morning worship service for an opportunity t
 o dive deeper into God's Word. We offer two classes:\n\nAdult Class: Held 
 upstairs in the sanctuary\, this class is led by Russel and provides meani
 ngful insights and discussion for adults.\nChildren’s Class: Located in 
 the church basement\, this class is taught by Melanie\, a kindergarten tea
 cher\, who teaches kids about God’s Word in a fun and engaging way.\n\nA
 ll are welcome! Come grow with us.
LAST-MODIFIED:20260420T210106
LOCATION:Hilltop Chapel Bible Methodist Church 
SUMMARY:Sunday School
URL;VALUE=URI:https://www.hilltopchapelconcord.com/events/sunday-school--9/
 2026-10-11
ATTACH;FILENAME=20250914_103045.jpg;FMTTYPE=image/jpeg:https://dq5pwpg1q8ru
 0.cloudfront.net/2025/09/19/22/15/53/7c2724aa-c9a9-4e55-a565-8fa89d23b22d/
 20250914_103045.jpg
ATTACH;FILENAME=20250914_103127.jpg;FMTTYPE=image/jpeg:https://dq5pwpg1q8ru
 0.cloudfront.net/2025/09/19/22/15/54/17f3dd4b-dd83-4562-9376-41b4d77e3176/
 20250914_103127.jpg
END:VEVENT
END:VCALENDAR
