BEGIN:VCALENDAR
VERSION:2.0
PRODID:icalendar-ruby
CALSCALE:GREGORIAN
METHOD:PUBLISH
BEGIN:VEVENT
DTSTAMP:20260421T203752Z
UID:11-397935@hilltopchapelconcord.com
DTSTART:20261213T190000Z
DTEND:20261213T200000Z
CLASS:PUBLIC
CREATED:20260413T190841
DESCRIPTION:
LAST-MODIFIED:20260413T190841
LOCATION:3700 S Dearing Rd\, Spring Arbor\, MI 49283
SUMMARY:Senior Worship Service
URL;VALUE=URI:https://www.hilltopchapelconcord.com/events/senior-worship-se
 rvice/2026-12-13
ATTACH;FILENAME=20250209_143407.jpg;FMTTYPE=image/jpeg:https://dq5pwpg1q8ru
 0.cloudfront.net/2025/03/01/20/55/42/00920b90-5c0b-4168-8491-b75892d06702/
 20250209_143407.jpg
ATTACH;FILENAME=20241013_143916.jpg;FMTTYPE=image/jpeg:https://dq5pwpg1q8ru
 0.cloudfront.net/2024/10/14/23/41/44/a48f7434-afd1-45d6-bb66-4cf3ae7bf8df/
 20241013_143916.jpg
END:VEVENT
END:VCALENDAR
