BEGIN:VCALENDAR
VERSION:2.0
PRODID:icalendar-ruby
CALSCALE:GREGORIAN
METHOD:PUBLISH
BEGIN:VEVENT
DTSTAMP:20260420T025928Z
UID:42-407436@hilltopchapelconcord.com
DTSTART:20260509T170000Z
DTEND:20260509T183000Z
CLASS:PUBLIC
CREATED:20260419T090105
DESCRIPTION:Join us as we reach out into our community in a simple but mean
 ingful way this Mother’s Day weekend.\nWe will be distributing 100 carna
 tions to honor mothers and share a reminder of God’s love with those aro
 und us.\nThis is a great opportunity to serve together\, connect with our 
 community\, and be a visible expression of Christ’s love.\nDate: Saturda
 y\, May 9Time: Meet at the church at 1:00 PM\nEveryone is welcome to help 
 — We’ll go out in small groups and distribute flowers locally.\n\nWe w
 ill also be attaching a small note of encouragement to each flower\, if yo
 u would prefer to help with that instead of the distribution\, please talk
  with the pastor.\nLet’s be a blessing to our community.
LAST-MODIFIED:20260419T090105
LOCATION:
SUMMARY:Mother’s Day Community Outreach
URL;VALUE=URI:https://www.hilltopchapelconcord.com/events/mother-s-day-comm
 unity-outreach/2026-05-09
ATTACH;FILENAME=Screenshot-2026-04-19-at-08-59-57-Mothers-Day-Outreach-Slid
 e.png;FMTTYPE=image/png:https://dq5pwpg1q8ru0.cloudfront.net/2026/04/19/13
 /01/04/2e2cf4a9-7e4d-480d-9e0f-3b4936c1da0b/Screenshot-2026-04-19-at-08-59
 -57-Mothers-Day-Outreach-Slide.png
END:VEVENT
END:VCALENDAR
