BEGIN:VCALENDAR
VERSION:2.0
PRODID:icalendar-ruby
CALSCALE:GREGORIAN
METHOD:PUBLISH
BEGIN:VEVENT
DTSTAMP:20260425T131054Z
UID:10-418418@hilltopchapelconcord.com
DTSTART:20260920T150000Z
DTEND:20260920T160000Z
CLASS:PUBLIC
CREATED:20260425T081217
DESCRIPTION:Morning Worship
LAST-MODIFIED:20260425T081217
LOCATION:Hilltop Chapel Bible Methodist Church
SUMMARY:Morning Worship
URL;VALUE=URI:https://www.hilltopchapelconcord.com/events/morning-worship--
 10/2026-09-20
ATTACH;FILENAME=20250525_110454.jpg;FMTTYPE=image/jpeg:https://dq5pwpg1q8ru
 0.cloudfront.net/2025/09/19/22/17/24/1a22d565-97da-4ebd-916e-bc90ec8d2e15/
 20250525_110454.jpg
END:VEVENT
END:VCALENDAR
